BEGIN:VCALENDAR
VERSION:2.0
PRODID:-//GitLab//NONSGML GitLab//EN
CALSCALE:GREGORIAN
X-WR-CALNAME:GitLab Issues
BEGIN:VEVENT
DTSTAMP:20210911T063657Z
UID:27ffb784-5a0a-4268-8b21-f5d0ea000c40
DTSTART;VALUE=DATE:20210912
DESCRIPTION:Find out more at https://repo1.dso.mil/dsop/fluxcd/source-contr
 oller/-/issues/47
SUMMARY:Renovate: Update golang Docker tag to v1.17.1 (in dsop/fluxcd/sourc
 e-controller)
TRANSP:TRANSPARENT
URL:https://repo1.dso.mil/dsop/fluxcd/source-controller/-/issues/47
END:VEVENT
BEGIN:VEVENT
DTSTAMP:20210911T063657Z
UID:8fd84523-5e4b-4028-97ff-3b1f4b6fb0d5
DTSTART;VALUE=DATE:20210829
DESCRIPTION:Find out more at https://repo1.dso.mil/dsop/fluxcd/source-contr
 oller/-/issues/46
SUMMARY:Renovate: Update golang Docker tag (in dsop/fluxcd/source-controlle
 r)
TRANSP:TRANSPARENT
URL:https://repo1.dso.mil/dsop/fluxcd/source-controller/-/issues/46
END:VEVENT
BEGIN:VEVENT
DTSTAMP:20210911T063657Z
UID:654dc5aa-a2e6-4c50-a351-f40b7b8bb923
DTSTART;VALUE=DATE:20210828
DESCRIPTION:Find out more at https://repo1.dso.mil/dsop/fluxcd/source-contr
 oller/-/issues/45
SUMMARY:Renovate: Update golang Docker tag (in dsop/fluxcd/source-controlle
 r)
TRANSP:TRANSPARENT
URL:https://repo1.dso.mil/dsop/fluxcd/source-controller/-/issues/45
END:VEVENT
END:VCALENDAR

