BEGIN:VCALENDAR
VERSION:2.0
PRODID:-//GitLab//NONSGML GitLab//EN
CALSCALE:GREGORIAN
X-WR-CALNAME:GitLab Issues
BEGIN:VEVENT
DTSTAMP:20210914T155231Z
UID:94ece439-a5e6-4b90-92af-1d5db2c41c23
DTSTART;VALUE=DATE:20210902
DESCRIPTION:Find out more at https://repo1.dso.mil/dsop/gitlab/gitlab/gital
 y/-/issues/26
SUMMARY:chore(findings): gitlab/gitlab/gitaly (in dsop/gitlab/gitlab/gitaly
 )
TRANSP:TRANSPARENT
URL:https://repo1.dso.mil/dsop/gitlab/gitlab/gitaly/-/issues/26
END:VEVENT
END:VCALENDAR

