BEGIN:VCALENDAR
VERSION:2.0
PRODID:-//GitLab//NONSGML GitLab//EN
CALSCALE:GREGORIAN
X-WR-CALNAME:GitLab Issues
BEGIN:VEVENT
DTSTAMP:20210914T161327Z
UID:16c20c77-fb89-4ee9-a316-5e02d003d2c1
DTSTART;VALUE=DATE:20210902
DESCRIPTION:Find out more at https://repo1.dso.mil/dsop/gitlab/gitlab/gitla
 b-sidekiq/-/issues/22
SUMMARY:chore(findings): gitlab/gitlab/gitlab-sidekiq (in dsop/gitlab/gitla
 b/gitlab-sidekiq)
TRANSP:TRANSPARENT
URL:https://repo1.dso.mil/dsop/gitlab/gitlab/gitlab-sidekiq/-/issues/22
END:VEVENT
END:VCALENDAR

