BEGIN:VCALENDAR
VERSION:2.0
PRODID:-//GitLab//NONSGML GitLab//EN
CALSCALE:GREGORIAN
X-WR-CALNAME:GitLab Issues
BEGIN:VEVENT
DTSTAMP:20210911T072442Z
UID:c297a241-1ba9-4692-a2e2-b6b29ff9e15c
DTSTART;VALUE=DATE:20210902
DESCRIPTION:Find out more at https://repo1.dso.mil/dsop/gitlab/gitlab/gitla
 b-task-runner/-/issues/29
SUMMARY:chore(findings): gitlab/gitlab/gitlab-task-runner (in dsop/gitlab/g
 itlab/gitlab-task-runner)
TRANSP:TRANSPARENT
URL:https://repo1.dso.mil/dsop/gitlab/gitlab/gitlab-task-runner/-/issues/29
END:VEVENT
END:VCALENDAR

