BEGIN:VCALENDAR
VERSION:2.0
PRODID:-//GitLab//NONSGML GitLab//EN
CALSCALE:GREGORIAN
X-WR-CALNAME:GitLab Issues
BEGIN:VEVENT
DTSTAMP:20210911T062503Z
UID:f61a939a-b763-413d-8a4e-27fa61205268
DTSTART;VALUE=DATE:20210830
DESCRIPTION:Find out more at https://repo1.dso.mil/dsop/hashicorp/vault/vau
 lt/-/issues/23
SUMMARY:Renovate: Update vault Docker tag to v1.8.2 (in dsop/hashicorp/vaul
 t/vault)
TRANSP:TRANSPARENT
URL:https://repo1.dso.mil/dsop/hashicorp/vault/vault/-/issues/23
END:VEVENT
BEGIN:VEVENT
DTSTAMP:20210911T062503Z
UID:9acedd40-d2ce-421d-8b7b-1dd0d004d7a9
DTSTART;VALUE=DATE:20210828
DESCRIPTION:Find out more at https://repo1.dso.mil/dsop/hashicorp/vault/vau
 lt/-/issues/21
SUMMARY:Renovate: Update vault Docker tag to v1.8.1 (in dsop/hashicorp/vaul
 t/vault)
TRANSP:TRANSPARENT
URL:https://repo1.dso.mil/dsop/hashicorp/vault/vault/-/issues/21
END:VEVENT
BEGIN:VEVENT
DTSTAMP:20210911T062503Z
UID:9aa5eb33-4307-43cc-8df0-32322adf9326
DTSTART;VALUE=DATE:20210828
DESCRIPTION:Find out more at https://repo1.dso.mil/dsop/hashicorp/vault/vau
 lt/-/issues/22
SUMMARY:Renovate: Update vault:1.7.3 Docker digest to 55d8cb0 (in dsop/hash
 icorp/vault/vault)
TRANSP:TRANSPARENT
URL:https://repo1.dso.mil/dsop/hashicorp/vault/vault/-/issues/22
END:VEVENT
END:VCALENDAR

