BEGIN:VCALENDAR
VERSION:2.0
PRODID:-//GitLab//NONSGML GitLab//EN
CALSCALE:GREGORIAN
X-WR-CALNAME:GitLab Issues
BEGIN:VEVENT
DTSTAMP:20210911T080107Z
UID:34fea075-1be6-4dec-9413-e028b05746a3
DTSTART;VALUE=DATE:20210902
DESCRIPTION:Find out more at https://repo1.dso.mil/dsop/jfrog/artifactory/a
 rtifactory-oss/-/issues/32
SUMMARY:chore(findings): jfrog/artifactory/artifactory-oss (in dsop/jfrog/a
 rtifactory/artifactory-oss)
TRANSP:TRANSPARENT
URL:https://repo1.dso.mil/dsop/jfrog/artifactory/artifactory-oss/-/issues/3
 2
END:VEVENT
END:VCALENDAR

