BEGIN:VCALENDAR
VERSION:2.0
PRODID:-//GitLab//NONSGML GitLab//EN
CALSCALE:GREGORIAN
X-WR-CALNAME:GitLab Issues
BEGIN:VEVENT
DTSTAMP:20210911T074942Z
UID:d81896a4-b17d-44e5-b54e-6afa1a4b2ead
DTSTART;VALUE=DATE:20210909
DESCRIPTION:Find out more at https://repo1.dso.mil/dsop/opensource/fluentd/
 fluentd-elasticsearch/-/issues/33
SUMMARY:Renovate: Update dependency elasticsearch-transport to v7.14.1 (in 
 dsop/opensource/fluentd/fluentd-elasticsearch)
TRANSP:TRANSPARENT
URL:https://repo1.dso.mil/dsop/opensource/fluentd/fluentd-elasticsearch/-/i
 ssues/33
END:VEVENT
BEGIN:VEVENT
DTSTAMP:20210911T074942Z
UID:02805585-d977-4cd6-8a6e-189b0735a0b2
DTSTART;VALUE=DATE:20210909
DESCRIPTION:Find out more at https://repo1.dso.mil/dsop/opensource/fluentd/
 fluentd-elasticsearch/-/issues/34
SUMMARY:Renovate: Update dependency elasticsearch-api to v7.14.1 (in dsop/o
 pensource/fluentd/fluentd-elasticsearch)
TRANSP:TRANSPARENT
URL:https://repo1.dso.mil/dsop/opensource/fluentd/fluentd-elasticsearch/-/i
 ssues/34
END:VEVENT
BEGIN:VEVENT
DTSTAMP:20210911T074942Z
UID:3c93f1f3-6534-4fb2-9671-be385270a249
DTSTART;VALUE=DATE:20210909
DESCRIPTION:Find out more at https://repo1.dso.mil/dsop/opensource/fluentd/
 fluentd-elasticsearch/-/issues/35
SUMMARY:Renovate: Update dependency elasticsearch to v7.14.1 (in dsop/opens
 ource/fluentd/fluentd-elasticsearch)
TRANSP:TRANSPARENT
URL:https://repo1.dso.mil/dsop/opensource/fluentd/fluentd-elasticsearch/-/i
 ssues/35
END:VEVENT
BEGIN:VEVENT
DTSTAMP:20210911T074942Z
UID:fc37fcec-ab8f-4953-89db-09ab390b9e46
DTSTART;VALUE=DATE:20210902
DESCRIPTION:Find out more at https://repo1.dso.mil/dsop/opensource/fluentd/
 fluentd-elasticsearch/-/issues/32
SUMMARY:Renovate: Update dependency faraday to v1.7.1 (in dsop/opensource/f
 luentd/fluentd-elasticsearch)
TRANSP:TRANSPARENT
URL:https://repo1.dso.mil/dsop/opensource/fluentd/fluentd-elasticsearch/-/i
 ssues/32
END:VEVENT
END:VCALENDAR

