BEGIN:VCALENDAR
VERSION:2.0
PRODID:-//GitLab//NONSGML GitLab//EN
CALSCALE:GREGORIAN
X-WR-CALNAME:GitLab Issues
BEGIN:VEVENT
DTSTAMP:20210911T070845Z
UID:4f68aef5-6369-4f95-991d-9afd07d3b259
DTSTART;VALUE=DATE:20210904
DESCRIPTION:Find out more at https://repo1.dso.mil/dsop/opensource/jenkins/
 jenkins/-/issues/29
SUMMARY:Renovate: Update dependency jenkinsci/plugin-installation-manager-t
 ool to v2.11.0 (in dsop/opensource/jenkins/jenkins)
TRANSP:TRANSPARENT
URL:https://repo1.dso.mil/dsop/opensource/jenkins/jenkins/-/issues/29
END:VEVENT
BEGIN:VEVENT
DTSTAMP:20210911T070845Z
UID:d9f27d54-9542-4047-a53f-01a9e88c0fa7
DTSTART;VALUE=DATE:20210903
DESCRIPTION:Find out more at https://repo1.dso.mil/dsop/opensource/jenkins/
 jenkins/-/issues/28
SUMMARY:Renovate: Automerge Update dependency with new findings (in dsop/op
 ensource/jenkins/jenkins)
TRANSP:TRANSPARENT
URL:https://repo1.dso.mil/dsop/opensource/jenkins/jenkins/-/issues/28
END:VEVENT
BEGIN:VEVENT
DTSTAMP:20210911T070845Z
UID:706cdbd4-b22c-4de1-bcfd-3bbe8db365c1
DTSTART;VALUE=DATE:20210902
DESCRIPTION:Find out more at https://repo1.dso.mil/dsop/opensource/jenkins/
 jenkins/-/issues/26
SUMMARY:chore(lint): opensource/jenkins/jenkins (in dsop/opensource/jenkins
 /jenkins)
TRANSP:TRANSPARENT
URL:https://repo1.dso.mil/dsop/opensource/jenkins/jenkins/-/issues/26
END:VEVENT
BEGIN:VEVENT
DTSTAMP:20210911T070845Z
UID:38c1e3e5-3001-49d9-b3a1-a95b79553ec4
DTSTART;VALUE=DATE:20210828
DESCRIPTION:Find out more at https://repo1.dso.mil/dsop/opensource/jenkins/
 jenkins/-/issues/24
SUMMARY:Renovate: Automerge Update dependency with new findings (in dsop/op
 ensource/jenkins/jenkins)
TRANSP:TRANSPARENT
URL:https://repo1.dso.mil/dsop/opensource/jenkins/jenkins/-/issues/24
END:VEVENT
END:VCALENDAR

