BEGIN:VCALENDAR
VERSION:2.0
PRODID:-//GitLab//NONSGML GitLab//EN
CALSCALE:GREGORIAN
X-WR-CALNAME:GitLab Issues
BEGIN:VEVENT
DTSTAMP:20210921T164815Z
UID:65a57c41-d434-49cb-bee8-8d5793a80d95
DTSTART;VALUE=DATE:20210916
DESCRIPTION:Find out more at https://repo1.dso.mil/dsop/opensource/lovasoa/
 wbo/-/issues/31
SUMMARY:Renovate: Automerge Update dependency without new findings (in dsop
 /opensource/lovasoa/wbo)
TRANSP:TRANSPARENT
URL:https://repo1.dso.mil/dsop/opensource/lovasoa/wbo/-/issues/31
END:VEVENT
BEGIN:VEVENT
DTSTAMP:20210921T164816Z
UID:a9a263b6-f1f7-461d-b4c4-3b0f57da5129
DTSTART;VALUE=DATE:20210915
DESCRIPTION:Find out more at https://repo1.dso.mil/dsop/opensource/lovasoa/
 wbo/-/issues/30
SUMMARY:Renovate: Automerge Update dependency without new findings (in dsop
 /opensource/lovasoa/wbo)
TRANSP:TRANSPARENT
URL:https://repo1.dso.mil/dsop/opensource/lovasoa/wbo/-/issues/30
END:VEVENT
END:VCALENDAR

