BEGIN:VCALENDAR
VERSION:2.0
PRODID:-//GitLab//NONSGML GitLab//EN
CALSCALE:GREGORIAN
X-WR-CALNAME:GitLab Issues
BEGIN:VEVENT
DTSTAMP:20210913T023831Z
UID:1cc60cab-fda0-4284-a6c9-3e35ae5db594
DTSTART;VALUE=DATE:20210830
DESCRIPTION:Find out more at https://repo1.dso.mil/dsop/opensource/lovasoa/
 wbo/-/issues/29
SUMMARY:Renovate: Automerge Update dependency with new findings (in dsop/op
 ensource/lovasoa/wbo)
TRANSP:TRANSPARENT
URL:https://repo1.dso.mil/dsop/opensource/lovasoa/wbo/-/issues/29
END:VEVENT
END:VCALENDAR

