BEGIN:VCALENDAR
VERSION:2.0
PRODID:-//GitLab//NONSGML GitLab//EN
CALSCALE:GREGORIAN
X-WR-CALNAME:GitLab Issues
BEGIN:VEVENT
DTSTAMP:20210914T150714Z
UID:399fccb8-3758-4e98-909a-35b4b06dee2d
DTSTART;VALUE=DATE:20210912
DESCRIPTION:Find out more at https://repo1.dso.mil/dsop/opensource/python/p
 ython39/-/issues/26
SUMMARY:Renovate: Automerge Update dependency without new findings (in dsop
 /opensource/python/python39)
TRANSP:TRANSPARENT
URL:https://repo1.dso.mil/dsop/opensource/python/python39/-/issues/26
END:VEVENT
BEGIN:VEVENT
DTSTAMP:20210914T150714Z
UID:bfe6fd49-b93d-4957-ad60-34c61cc17a94
DTSTART;VALUE=DATE:20210910
DESCRIPTION:Find out more at https://repo1.dso.mil/dsop/opensource/python/p
 ython39/-/issues/25
SUMMARY:Renovate: Automerge Update dependency without new findings (in dsop
 /opensource/python/python39)
TRANSP:TRANSPARENT
URL:https://repo1.dso.mil/dsop/opensource/python/python39/-/issues/25
END:VEVENT
BEGIN:VEVENT
DTSTAMP:20210914T150714Z
UID:03d9826e-2dc6-4b7e-81a3-1292cae3c988
DTSTART;VALUE=DATE:20210909
DESCRIPTION:Find out more at https://repo1.dso.mil/dsop/opensource/python/p
 ython39/-/issues/24
SUMMARY:Renovate: Automerge Update dependency with new findings (in dsop/op
 ensource/python/python39)
TRANSP:TRANSPARENT
URL:https://repo1.dso.mil/dsop/opensource/python/python39/-/issues/24
END:VEVENT
BEGIN:VEVENT
DTSTAMP:20210914T150714Z
UID:51f315da-fbd5-499b-a7f8-1225b8f586fb
DTSTART;VALUE=DATE:20210908
DESCRIPTION:Find out more at https://repo1.dso.mil/dsop/opensource/python/p
 ython39/-/issues/22
SUMMARY:Renovate: Update dependency setuptools to v57.5.0 (in dsop/opensour
 ce/python/python39)
TRANSP:TRANSPARENT
URL:https://repo1.dso.mil/dsop/opensource/python/python39/-/issues/22
END:VEVENT
BEGIN:VEVENT
DTSTAMP:20210914T150714Z
UID:ea738073-7254-48ed-906f-5045c168f7f3
DTSTART;VALUE=DATE:20210908
DESCRIPTION:Find out more at https://repo1.dso.mil/dsop/opensource/python/p
 ython39/-/issues/23
SUMMARY:Renovate: Automerge Update dependency with new findings (in dsop/op
 ensource/python/python39)
TRANSP:TRANSPARENT
URL:https://repo1.dso.mil/dsop/opensource/python/python39/-/issues/23
END:VEVENT
BEGIN:VEVENT
DTSTAMP:20210914T150714Z
UID:847e28c4-4fa9-4cd5-a662-da0832ede54f
DTSTART;VALUE=DATE:20210902
DESCRIPTION:Find out more at https://repo1.dso.mil/dsop/opensource/python/p
 ython39/-/issues/20
SUMMARY:Renovate: Automerge Update dependency without new findings (in dsop
 /opensource/python/python39)
TRANSP:TRANSPARENT
URL:https://repo1.dso.mil/dsop/opensource/python/python39/-/issues/20
END:VEVENT
END:VCALENDAR

