BEGIN:VCALENDAR
VERSION:2.0
PRODID:-//GitLab//NONSGML GitLab//EN
CALSCALE:GREGORIAN
X-WR-CALNAME:GitLab Issues
BEGIN:VEVENT
DTSTAMP:20210914T150724Z
UID:0552fa80-f692-4ed6-99e7-7588320dcc4d
DTSTART;VALUE=DATE:20210908
DESCRIPTION:Find out more at https://repo1.dso.mil/dsop/pivotal/rabbitmq/ra
 bbitmq38/-/issues/25
SUMMARY:Renovate: Update dependency rabbitmq/erlang-rpm to v24.0.6 (in dsop
 /pivotal/rabbitmq/rabbitmq38)
TRANSP:TRANSPARENT
URL:https://repo1.dso.mil/dsop/pivotal/rabbitmq/rabbitmq38/-/issues/25
END:VEVENT
BEGIN:VEVENT
DTSTAMP:20210914T150724Z
UID:369348d6-7634-45f7-ab79-f9d2750dc35c
DTSTART;VALUE=DATE:20210831
DESCRIPTION:Find out more at https://repo1.dso.mil/dsop/pivotal/rabbitmq/ra
 bbitmq38/-/issues/24
SUMMARY:Renovate: Update dependency rabbitmq/rabbitmq-server to v3.8.22 (in
  dsop/pivotal/rabbitmq/rabbitmq38)
TRANSP:TRANSPARENT
URL:https://repo1.dso.mil/dsop/pivotal/rabbitmq/rabbitmq38/-/issues/24
END:VEVENT
END:VCALENDAR

