BEGIN:VCALENDAR
VERSION:2.0
PRODID:-//GitLab//NONSGML GitLab//EN
CALSCALE:GREGORIAN
X-WR-CALNAME:GitLab Issues
BEGIN:VEVENT
DTSTAMP:20210911T053837Z
UID:d551b6a4-5f8c-4137-9e42-7c6349ea676f
DTSTART;VALUE=DATE:20210904
DESCRIPTION:Find out more at https://repo1.dso.mil/dsop/sonarsource/sonarqu
 be/sonarqube8-community/-/issues/27
SUMMARY:Renovate: Update sonarqube:8.9-community Docker digest to 88cd631 (
 in dsop/sonarsource/sonarqube/sonarqube8-community)
TRANSP:TRANSPARENT
URL:https://repo1.dso.mil/dsop/sonarsource/sonarqube/sonarqube8-community/-
 /issues/27
END:VEVENT
BEGIN:VEVENT
DTSTAMP:20210911T053837Z
UID:098e8134-c0ef-4c80-bc50-3ed0e6349db8
DTSTART;VALUE=DATE:20210902
DESCRIPTION:Find out more at https://repo1.dso.mil/dsop/sonarsource/sonarqu
 be/sonarqube8-community/-/issues/26
SUMMARY:chore(findings): sonarsource/sonarqube/sonarqube8-community (in dso
 p/sonarsource/sonarqube/sonarqube8-community)
TRANSP:TRANSPARENT
URL:https://repo1.dso.mil/dsop/sonarsource/sonarqube/sonarqube8-community/-
 /issues/26
END:VEVENT
BEGIN:VEVENT
DTSTAMP:20210911T053837Z
UID:b803abbb-723d-46a6-986f-3d9ac45a1515
DTSTART;VALUE=DATE:20210828
DESCRIPTION:Find out more at https://repo1.dso.mil/dsop/sonarsource/sonarqu
 be/sonarqube8-community/-/issues/25
SUMMARY:Renovate: Update sonarqube:8.9-community Docker digest to 7850dd0 (
 in dsop/sonarsource/sonarqube/sonarqube8-community)
TRANSP:TRANSPARENT
URL:https://repo1.dso.mil/dsop/sonarsource/sonarqube/sonarqube8-community/-
 /issues/25
END:VEVENT
END:VCALENDAR

