BEGIN:VCALENDAR
VERSION:2.0
PRODID:-//GitLab//NONSGML GitLab//EN
CALSCALE:GREGORIAN
X-WR-CALNAME:GitLab Issues
BEGIN:VEVENT
DTSTAMP:20210911T062158Z
UID:77ef5c6a-4eab-4903-a97b-396e4e0a6d61
DTSTART;VALUE=DATE:20210904
DESCRIPTION:Find out more at https://repo1.dso.mil/dsop/sonarsource/sonarqu
 be/sonarqube8-enterprise/-/issues/31
SUMMARY:Renovate: Update sonarqube:8.9-enterprise Docker digest to f42823e 
 (in dsop/sonarsource/sonarqube/sonarqube8-enterprise)
TRANSP:TRANSPARENT
URL:https://repo1.dso.mil/dsop/sonarsource/sonarqube/sonarqube8-enterprise/
 -/issues/31
END:VEVENT
BEGIN:VEVENT
DTSTAMP:20210911T062158Z
UID:c8b2d45f-e0ac-40fc-aea6-3f13d4f02f09
DTSTART;VALUE=DATE:20210902
DESCRIPTION:Find out more at https://repo1.dso.mil/dsop/sonarsource/sonarqu
 be/sonarqube8-enterprise/-/issues/30
SUMMARY:chore(findings): sonarsource/sonarqube/sonarqube8-enterprise (in ds
 op/sonarsource/sonarqube/sonarqube8-enterprise)
TRANSP:TRANSPARENT
URL:https://repo1.dso.mil/dsop/sonarsource/sonarqube/sonarqube8-enterprise/
 -/issues/30
END:VEVENT
BEGIN:VEVENT
DTSTAMP:20210911T062158Z
UID:299ef832-8225-4463-8f54-f974c7157094
DTSTART;VALUE=DATE:20210828
DESCRIPTION:Find out more at https://repo1.dso.mil/dsop/sonarsource/sonarqu
 be/sonarqube8-enterprise/-/issues/29
SUMMARY:Renovate: Update sonarqube:8.9-enterprise Docker digest to 4c04f59 
 (in dsop/sonarsource/sonarqube/sonarqube8-enterprise)
TRANSP:TRANSPARENT
URL:https://repo1.dso.mil/dsop/sonarsource/sonarqube/sonarqube8-enterprise/
 -/issues/29
END:VEVENT
END:VCALENDAR

