BEGIN:VCALENDAR
VERSION:2.0
PRODID:-//GitLab//NONSGML GitLab//EN
CALSCALE:GREGORIAN
X-WR-CALNAME:GitLab Issues
BEGIN:VEVENT
DTSTAMP:20210919T124911Z
UID:875c669d-594e-4a5a-b7ae-e683b6b409b5
DTSTART;VALUE=DATE:20210914
DESCRIPTION:Find out more at https://repo1.dso.mil/ironbank-tools/ironbank-
 pipeline/-/issues/371
SUMMARY:Build Stage Discussion?? Need better title (in ironbank-tools/ironb
 ank-pipeline)
TRANSP:TRANSPARENT
URL:https://repo1.dso.mil/ironbank-tools/ironbank-pipeline/-/issues/371
END:VEVENT
END:VCALENDAR

